BEGIN:VCALENDAR
VERSION:2.0
PRODID:-//Kendra Scott Women’s Entrepreneurial Leadership Institute at The University of Texas at Austin - ECPv6.15.16//NONSGML v1.0//EN
CALSCALE:GREGORIAN
METHOD:PUBLISH
X-ORIGINAL-URL:https://kswelinstitute.utexas.edu
X-WR-CALDESC:Events for Kendra Scott Women’s Entrepreneurial Leadership Institute at The University of Texas at Austin
REFRESH-INTERVAL;VALUE=DURATION:PT1H
X-Robots-Tag:noindex
X-PUBLISHED-TTL:PT1H
BEGIN:VTIMEZONE
TZID:America/Chicago
BEGIN:DAYLIGHT
TZOFFSETFROM:-0600
TZOFFSETTO:-0500
TZNAME:CDT
DTSTART:20220313T080000
END:DAYLIGHT
BEGIN:STANDARD
TZOFFSETFROM:-0500
TZOFFSETTO:-0600
TZNAME:CST
DTSTART:20221106T070000
END:STANDARD
BEGIN:DAYLIGHT
TZOFFSETFROM:-0600
TZOFFSETTO:-0500
TZNAME:CDT
DTSTART:20230312T080000
END:DAYLIGHT
BEGIN:STANDARD
TZOFFSETFROM:-0500
TZOFFSETTO:-0600
TZNAME:CST
DTSTART:20231105T070000
END:STANDARD
BEGIN:DAYLIGHT
TZOFFSETFROM:-0600
TZOFFSETTO:-0500
TZNAME:CDT
DTSTART:20240310T080000
END:DAYLIGHT
BEGIN:STANDARD
TZOFFSETFROM:-0500
TZOFFSETTO:-0600
TZNAME:CST
DTSTART:20241103T070000
END:STANDARD
END:VTIMEZONE
BEGIN:VEVENT
DTSTART;TZID=America/Chicago:20230830T180000
DTEND;TZID=America/Chicago:20230830T190000
DTSTAMP:20260419T205322
CREATED:20230818T010017Z
LAST-MODIFIED:20230829T140232Z
UID:10000013-1693418400-1693422000@kswelinstitute.utexas.edu
SUMMARY:KS WELI Student Board Info Session
DESCRIPTION:No RSVP is needed – come and join us! \n______________________________________________________ \nThe Student Board constitutes the student voice of the KS WELI. These campus leaders set an example across the Forty Acres and beyond. They implement and ensure that the KS WELI’s mission is aligned with student-led initiatives. \nWhy join Student Board? \n\nGrow your leadership skills\nJoin Student board exclusive events\nGet priority access to KS WELI events\nOpen to all UT students\n\nProspective members are encouraged to attend at least one session before signing up to be a general member. Attend to learn more! \nSign up for Student Board here! Sign-ups are open through September 4th 11:59 pm.
URL:https://kswelinstitute.utexas.edu/event/ks-weli-student-board-info-session-2/
LOCATION:Kendra Scott Center\, 2301 Trinity Street\, Austin\, 78712\, United States
CATEGORIES:KS WELI Student Board Event
ATTACH;FMTTYPE=image/png:https://kswelinstitute.utexas.edu/wp-content/uploads/2023/08/30th.png
END:VEVENT
BEGIN:VEVENT
DTSTART;TZID=America/Chicago:20230823T180000
DTEND;TZID=America/Chicago:20230823T190000
DTSTAMP:20260419T205322
CREATED:20230818T005837Z
LAST-MODIFIED:20230818T024824Z
UID:10000012-1692813600-1692817200@kswelinstitute.utexas.edu
SUMMARY:KS WELI Student Board Info Session
DESCRIPTION:No RSVP is needed – come and join us! \n______________________________________________________ \nThe Student Board constitutes the student voice of the KS WELI. These campus leaders set an example across the Forty Acres and beyond. They implement and ensure that the KS WELI’s mission is aligned with student-led initiatives. \nWhy join Student Board? \n\nGrow your leadership skills\nJoin Student board exclusive events\nGet priority access to KS WELI events\nOpen to all UT students\n\nProspective members are encouraged to attend at least one session before signing up to be a general member. Attend to learn more! \nSign up for Student Board here! Sign-ups are open through September 4th 11:59 pm.
URL:https://kswelinstitute.utexas.edu/event/ks-weli-student-board-info-session/
LOCATION:Kendra Scott Center\, 2301 Trinity Street\, Austin\, 78712\, United States
CATEGORIES:KS WELI Student Board Event
ATTACH;FMTTYPE=image/jpeg:https://kswelinstitute.utexas.edu/wp-content/uploads/2023/08/Copy-of-General-Membership-AY23-24-Pinned-IG-Post-3.jpg
END:VEVENT
END:VCALENDAR