BEGIN:VCALENDAR
VERSION:2.0
PRODID:-//Kendra Scott Women’s Entrepreneurial Leadership Institute at The University of Texas at Austin - ECPv6.15.16//NONSGML v1.0//EN
CALSCALE:GREGORIAN
METHOD:PUBLISH
X-WR-CALNAME:Kendra Scott Women’s Entrepreneurial Leadership Institute at The University of Texas at Austin
X-ORIGINAL-URL:https://kswelinstitute.utexas.edu
X-WR-CALDESC:Events for Kendra Scott Women’s Entrepreneurial Leadership Institute at The University of Texas at Austin
REFRESH-INTERVAL;VALUE=DURATION:PT1H
X-Robots-Tag:noindex
X-PUBLISHED-TTL:PT1H
BEGIN:VTIMEZONE
TZID:America/Chicago
BEGIN:DAYLIGHT
TZOFFSETFROM:-0600
TZOFFSETTO:-0500
TZNAME:CDT
DTSTART:20240310T080000
END:DAYLIGHT
BEGIN:STANDARD
TZOFFSETFROM:-0500
TZOFFSETTO:-0600
TZNAME:CST
DTSTART:20241103T070000
END:STANDARD
BEGIN:DAYLIGHT
TZOFFSETFROM:-0600
TZOFFSETTO:-0500
TZNAME:CDT
DTSTART:20250309T080000
END:DAYLIGHT
BEGIN:STANDARD
TZOFFSETFROM:-0500
TZOFFSETTO:-0600
TZNAME:CST
DTSTART:20251102T070000
END:STANDARD
BEGIN:DAYLIGHT
TZOFFSETFROM:-0600
TZOFFSETTO:-0500
TZNAME:CDT
DTSTART:20260308T080000
END:DAYLIGHT
BEGIN:STANDARD
TZOFFSETFROM:-0500
TZOFFSETTO:-0600
TZNAME:CST
DTSTART:20261101T070000
END:STANDARD
BEGIN:DAYLIGHT
TZOFFSETFROM:-0600
TZOFFSETTO:-0500
TZNAME:CDT
DTSTART:20270314T080000
END:DAYLIGHT
BEGIN:STANDARD
TZOFFSETFROM:-0500
TZOFFSETTO:-0600
TZNAME:CST
DTSTART:20271107T070000
END:STANDARD
END:VTIMEZONE
BEGIN:VEVENT
DTSTART;TZID=America/Chicago:20260327T130000
DTEND;TZID=America/Chicago:20260327T130000
DTSTAMP:20260423T055827
CREATED:20260203T050037Z
LAST-MODIFIED:20260203T051921Z
UID:10000083-1774616400-1774616400@kswelinstitute.utexas.edu
SUMMARY:KS WELI Founder Workshop 10: Advertising & Growth Marketing
DESCRIPTION:This workshop turns marketing from “posting” into performance. Founders will learn the fundamentals of organic and digital growth\, SMART goals\, channel strategy\, and the key metrics that help them evaluate what’s working (and what’s not). Our guest speaker will also cover competitive analysis and cost-effective approaches to building awareness and acquisition while staying true to their brand. \nSpark Founders will walk away with: marketing goals you can measure\, a stronger channel strategy\, and a foundation for growth that’s built to scale.
URL:https://kswelinstitute.utexas.edu/event/ks-weli-founder-workshop-10-advertising-growth-marketing/
LOCATION:Spark Founders Cohort Exclusive
CATEGORIES:Spark Founders
END:VEVENT
BEGIN:VEVENT
DTSTART;TZID=America/Chicago:20260325T170000
DTEND;TZID=America/Chicago:20260325T170000
DTSTAMP:20260423T055827
CREATED:20260203T050037Z
LAST-MODIFIED:20260203T052324Z
UID:10000082-1774458000-1774458000@kswelinstitute.utexas.edu
SUMMARY:KS WELI SB Innovation Series: Design Thinking
DESCRIPTION:Innovation starts with seeing what others miss. This workshop\, featuring the team from IDEO\, introduces design thinking as a practical toolkit for identifying white space\, solving problems creatively\, and building better solutions in any organization.
URL:https://kswelinstitute.utexas.edu/event/ks-weli-sb-innovation-series-design-thinking/
LOCATION:Student Board Member Exclusive
CATEGORIES:Student Board
END:VEVENT
BEGIN:VEVENT
DTSTART;TZID=America/Chicago:20260313T130000
DTEND;TZID=America/Chicago:20260313T130000
DTSTAMP:20260423T055827
CREATED:20260203T045938Z
LAST-MODIFIED:20260203T051935Z
UID:10000081-1773406800-1773406800@kswelinstitute.utexas.edu
SUMMARY:KS WELI Founder Workshop 9: Brand Strategy and Marketing
DESCRIPTION:Your brand is what people believe about you\, before they buy. This workshop helps founders define brand identity\, clarify positioning\, and craft a story that connects with the audience they’re built to serve. Founders will explore what makes brands memorable (and scalable)\, and how to translate their venture’s purpose into messaging that feels aligned\, compelling\, and consistent. \nSpark Founders will walk away with: clearer brand identity\, stronger messaging\, and a story you can use across pitch\, web\, and marketing.
URL:https://kswelinstitute.utexas.edu/event/ks-weli-founder-workshop-9-brand-strategy-and-marketing/
LOCATION:Spark Founders Cohort Exclusive
CATEGORIES:Spark Founders
END:VEVENT
BEGIN:VEVENT
DTSTART;TZID=America/Chicago:20260306T130000
DTEND;TZID=America/Chicago:20260306T130000
DTSTAMP:20260423T055827
CREATED:20260203T045938Z
LAST-MODIFIED:20260203T051954Z
UID:10000080-1772802000-1772802000@kswelinstitute.utexas.edu
SUMMARY:KS WELI Founder Workshop 8:Financial Modeling & Investor Metrics
DESCRIPTION:This session demystifies the basics of financial statements\, cash flow thinking\, forecasting\, and the metrics investors look for. Founders will learn how to connect operations to outcomes\, plan for scenarios\, and build financial confidence that supports smarter decisions and stronger storytelling. \nSpark Founders will walk away with: foundational finance fluency\, investor metric awareness\, and a clearer path to building a usable model.
URL:https://kswelinstitute.utexas.edu/event/ks-weli-founder-workshop-8financial-modeling-investor-metrics/
LOCATION:Spark Founders Cohort Exclusive
CATEGORIES:Spark Founders
END:VEVENT
BEGIN:VEVENT
DTSTART;TZID=America/Chicago:20260227T130000
DTEND;TZID=America/Chicago:20260227T130000
DTSTAMP:20260423T055827
CREATED:20260203T045937Z
LAST-MODIFIED:20260203T052011Z
UID:10000079-1772197200-1772197200@kswelinstitute.utexas.edu
SUMMARY:KS WELI Founder Workshop 7: Pricing & Monetization
DESCRIPTION:This workshop introduces core pricing principles\, common models\, competitive analysis\, and how to balance profitability with growth. Founders will also explore tools like willingness-to-pay methods so you can price with confidence and build a monetization strategy that matches their market and venture goals. \nSpark Founders will walk away with: a pricing direction you can test\, stronger value-based thinking\, and practical tools to evaluate pricing decisions.
URL:https://kswelinstitute.utexas.edu/event/ks-weli-founder-workshop-7-pricing-monetization/
LOCATION:Spark Founders Cohort Exclusive
CATEGORIES:Spark Founders
END:VEVENT
BEGIN:VEVENT
DTSTART;TZID=America/Chicago:20260225T170000
DTEND;TZID=America/Chicago:20260225T170000
DTSTAMP:20260423T055827
CREATED:20260203T045937Z
LAST-MODIFIED:20260203T052337Z
UID:10000078-1772038800-1772038800@kswelinstitute.utexas.edu
SUMMARY:KS WELI SB Innovation Series: Negotiations
DESCRIPTION:Negotiation shows up everywhere\, in compensation conversations\, team dynamics\, partnerships\, and big decisions. This workshop\, hosted by Dr. Melissa Murphy (UT Austin)\, equips students with practical strategies and frameworks to negotiate with clarity and confidence. Through exercises and real-world scenarios\, you’ll learn how to prepare\, communicate value\, and advocate for outcomes that move you (and your goals) forward.
URL:https://kswelinstitute.utexas.edu/event/ks-weli-sb-innovation-series-negotiations/
LOCATION:Student Board Member Exclusive
CATEGORIES:Student Board
END:VEVENT
BEGIN:VEVENT
DTSTART;TZID=America/Chicago:20260220T130000
DTEND;TZID=America/Chicago:20260220T130000
DTSTAMP:20260423T055827
CREATED:20260203T045936Z
LAST-MODIFIED:20260203T052030Z
UID:10000077-1771592400-1771592400@kswelinstitute.utexas.edu
SUMMARY:KS WELI Founder Workshop 6: Sales Funnel & Revenue Generation
DESCRIPTION:Revenue growth starts with a repeatable path from interest to action. In this session\, founders will map their sales funnel\, identify top-of-funnel (TOFU) strategies\, and learn practical approaches to lead generation and conversion. Whether they’re building B2C or B2B\, they’ll focus on how customers make decisions and what their venture needs to move them forward. \nSpark Founders will walk away with: an early sales funnel strategy\, lead-generation tactics\, and clearer touchpoints for customer conversion.
URL:https://kswelinstitute.utexas.edu/event/ks-weli-founder-workshop-6-sales-funnel-revenue-generation/
LOCATION:Spark Founders Cohort Exclusive
CATEGORIES:Spark Founders
END:VEVENT
BEGIN:VEVENT
DTSTART;TZID=America/Chicago:20260213T130000
DTEND;TZID=America/Chicago:20260213T130000
DTSTAMP:20260423T055827
CREATED:20260203T045837Z
LAST-MODIFIED:20260203T052049Z
UID:10000076-1770987600-1770987600@kswelinstitute.utexas.edu
SUMMARY:KS WELI Founder Workshop 5: Go to Market Channels and Experimentation
DESCRIPTION:This workshop equips founders with frameworks to explore and validate channels\, measure performance\, and build a culture of iteration. From experimentation strategy to feedback loops and product-market fit tracking\, they’ll learn how to test\, learn\, and scale what works\, without wasting time or budget. \nSpark Founders will walk away with: channel experimentation frameworks\, a plan to test traction\, and tools to track learning over time.
URL:https://kswelinstitute.utexas.edu/event/ks-weli-founder-workshop-5-go-to-market-channels-and-experimentation/
LOCATION:Spark Founders Cohort Exclusive
CATEGORIES:Spark Founders
END:VEVENT
BEGIN:VEVENT
DTSTART;TZID=America/Chicago:20260206T130000
DTEND;TZID=America/Chicago:20260206T130000
DTSTAMP:20260423T055827
CREATED:20260203T045836Z
LAST-MODIFIED:20260203T051759Z
UID:10000075-1770382800-1770382800@kswelinstitute.utexas.edu
SUMMARY:KS WELI Founder Workshop 4: Strategic Differentiation and Go to Market Positioning
DESCRIPTION:This session introduces the fundamentals of positioning\, category design\, value proposition clarity\, and strategic differentiation\, so founders can own their space with intention. They’ll explore positioning maps\, “moat” thinking\, and how to craft messaging that resonates with the customers they’re built to serve. \nSpark Founders will walk away with: sharper positioning\, clearer differentiation\, and language that strengthens your go-to-market foundation.
URL:https://kswelinstitute.utexas.edu/event/ks-weli-founder-workshop-4-strategic-differentiation-and-go-to-market-positioning/
LOCATION:Spark Founders Cohort Exclusive
CATEGORIES:Spark Founders
END:VEVENT
BEGIN:VEVENT
DTSTART;TZID=America/Chicago:20260130T130000
DTEND;TZID=America/Chicago:20260130T170000
DTSTAMP:20260423T055827
CREATED:20260203T045836Z
LAST-MODIFIED:20260203T052119Z
UID:10000074-1769778000-1769792400@kswelinstitute.utexas.edu
SUMMARY:KS WELI Founder Workshop 3: Beachhead Market
DESCRIPTION:A great venture starts with focus. In this workshop\, participants will identify their beachhead market\, the earliest adopters most likely to say “yes”\, and translate customer discovery into a clear\, actionable customer persona. They’ll move from broad assumptions to sharper insight\, helping them tighten their messaging\, product decisions\, and go-to-market priorities. \nSpark Founders will walk away with: a defined early adopter strategy and a written customer persona grounded in real discovery.
URL:https://kswelinstitute.utexas.edu/event/ks-weli-founder-workshop-3-beachhead-market/
LOCATION:Spark Founders Cohort Exclusive
CATEGORIES:Spark Founders
END:VEVENT
BEGIN:VEVENT
DTSTART;TZID=America/Chicago:20260128T170000
DTEND;TZID=America/Chicago:20260128T180000
DTSTAMP:20260423T055827
CREATED:20260203T045835Z
LAST-MODIFIED:20260203T052356Z
UID:10000073-1769619600-1769623200@kswelinstitute.utexas.edu
SUMMARY:KS WELI SB Innovation Series: Confidence and Communication
DESCRIPTION:This interactive workshop helps students strengthen self-trust\, refine communication strategies\, and practice taking professional risks with intention. The guest speaker\, Anita Desai from Tiktok will identify common barriers (internal and external)\, practice assertive communication tools\, and leave with frameworks to show up more boldly in rooms where decisions are made.
URL:https://kswelinstitute.utexas.edu/event/ks-weli-sb-innovation-series-confidence-and-communication/
LOCATION:Student Board Member Exclusive
CATEGORIES:Student Board
END:VEVENT
BEGIN:VEVENT
DTSTART;TZID=America/Chicago:20260123T130000
DTEND;TZID=America/Chicago:20260123T170000
DTSTAMP:20260423T055827
CREATED:20260203T045835Z
LAST-MODIFIED:20260203T052210Z
UID:10000072-1769173200-1769187600@kswelinstitute.utexas.edu
SUMMARY:KS WELI Founder Workshop 2: Negotiations
DESCRIPTION:This session covers core negotiation strategy\, win-win outcomes\, and how to understand the other side’s position (without giving away yours). You’ll also learn tactics to navigate common disadvantages founders can face\, so you can show up prepared in contracts\, partnerships\, and high-stakes conversations. \nSpark Founders will walk away with: negotiation frameworks\, language you can use immediately\, and a stronger ability to advocate for your business.
URL:https://kswelinstitute.utexas.edu/event/ks-weli-founder-workshop-2-negotiations/
LOCATION:Spark Founders Cohort Exclusive
CATEGORIES:Spark Founders
END:VEVENT
BEGIN:VEVENT
DTSTART;TZID=America/Chicago:20260116T130000
DTEND;TZID=America/Chicago:20260116T170000
DTSTAMP:20260423T055827
CREATED:20260203T045834Z
LAST-MODIFIED:20260203T052223Z
UID:10000071-1768568400-1768582800@kswelinstitute.utexas.edu
SUMMARY:KS WELI Founder Workshop 1: Financing and Funding 101
DESCRIPTION:Funding can unlock growth\, but only if you understand the tradeoffs. This workshop breaks down the startup financing landscape\, from venture capital to non-dilutive options\, and introduces the building blocks of term sheets\, valuation\, and deal structure. We’ll also name real barriers founders face in fundraising and contracts\, including gender bias\, and focus on strategies that help you advocate for your venture with confidence. \nSpark Founders will walk away with: a stronger grasp of funding paths\, key term sheet language\, and next-step tools to pursue the right fit.
URL:https://kswelinstitute.utexas.edu/event/ks-weli-founder-workshop-1-financing-and-funding-101/
LOCATION:Spark Founders Cohort Exclusive
CATEGORIES:Spark Founders
END:VEVENT
BEGIN:VEVENT
DTSTART;TZID=America/Chicago:20251205T130000
DTEND;TZID=America/Chicago:20251205T170000
DTSTAMP:20260423T055827
CREATED:20260203T045833Z
LAST-MODIFIED:20260203T050404Z
UID:10000070-1764939600-1764954000@kswelinstitute.utexas.edu
SUMMARY:KS WELI Spring Founder Orientation
DESCRIPTION:Spark Founders Program Orientation is the official kickoff to the semester\, welcoming the cohort into a community built to turn early-stage ideas into real ventures. This full-day orientation introduces program expectations\, key milestones\, and the resources available throughout the semester\, including mentorship\, workshops\, and peer connection. \nParticipants will also have dedicated time to meet fellow founders and begin building relationships that support growth\, accountability\, and momentum from day one.
URL:https://kswelinstitute.utexas.edu/event/ks-weli-spring-founder-orientation/
LOCATION:Kendra Scott Center\, 2301 Trinity Street\, Austin\, 78712\, United States
CATEGORIES:Spark Founders
END:VEVENT
BEGIN:VEVENT
DTSTART;TZID=America/Chicago:20251112T170000
DTEND;TZID=America/Chicago:20251112T180000
DTSTAMP:20260423T055827
CREATED:20260203T045833Z
LAST-MODIFIED:20260203T052412Z
UID:10000069-1762966800-1762970400@kswelinstitute.utexas.edu
SUMMARY:KS WELI SB Innovation Series: Venture Capital 101
DESCRIPTION:In this SB exclusive session\, Juliette Richert of the Artemis Fund will break down how VC funds are structured\, who’s involved\, and what happens from first conversation to signed deal. Student Board members can expect clear frameworks\, interactive learning\, and the confidence to navigate VC conversations with more clarity\, whether you’re raising capital\, joining a fund\, or building in a venture-backed world.
URL:https://kswelinstitute.utexas.edu/event/ks-weli-sb-innovation-series-venture-capital-101/
LOCATION:Student Board Member Exclusive
CATEGORIES:Student Board
END:VEVENT
BEGIN:VEVENT
DTSTART;TZID=America/Chicago:20251109T120000
DTEND;TZID=America/Chicago:20251109T160000
DTSTAMP:20260423T055827
CREATED:20260203T045832Z
LAST-MODIFIED:20260203T050449Z
UID:10000068-1762689600-1762704000@kswelinstitute.utexas.edu
SUMMARY:Texes Exes Longhorn Market
DESCRIPTION:Get holiday-ready while supporting more than 50 Longhorn-owned businesses on the Forty Acres. From unique clothing and home goods to tasty treats\, gifts\, and more\, you’ll find something special for everyone on your list (and maybe yourself\, too!). This event is hosted by Texas Exes and features student founders from KS WELI.
URL:https://kswelinstitute.utexas.edu/event/texes-exes-longhorn-market/
LOCATION:Etter-Harbin Alumni Center\, 2110 San Jacinto Blvd\, Austin\, Texas\, 78712\, United States
CATEGORIES:Partner Event
END:VEVENT
BEGIN:VEVENT
DTSTART;TZID=America/Chicago:20251024T140000
DTEND;TZID=America/Chicago:20251024T150000
DTSTAMP:20260423T055827
CREATED:20260203T045832Z
LAST-MODIFIED:20260203T052431Z
UID:10000067-1761314400-1761318000@kswelinstitute.utexas.edu
SUMMARY:KS WELI SB EC Mentor Mixer
DESCRIPTION:The Student Board Executive Committee Mentor Mixer is an invite-only evening designed to spark meaningful connections between our student leaders and the mentors who support their growth. Students and Mentors can expect warm conversation\, new connections\, and the start of mentorship relationships that help student leaders lead with confidence
URL:https://kswelinstitute.utexas.edu/event/ks-weli-sb-ec-mentor-mixer/
LOCATION:Student Board Member Exclusive
CATEGORIES:Student Board
END:VEVENT
BEGIN:VEVENT
DTSTART;TZID=America/Chicago:20251017T130000
DTEND;TZID=America/Chicago:20251017T140000
DTSTAMP:20260423T055827
CREATED:20250918T143559Z
LAST-MODIFIED:20250918T143654Z
UID:10000066-1760706000-1760709600@kswelinstitute.utexas.edu
SUMMARY:Founder Program Info Session 2
DESCRIPTION:RSVP Here!\nReady to grow your startup? KS WELI’s Founder Program is our premier entrepreneurship offering\, designed to support students ready to take their ventures from idea to impact. \nAt our info sessions\, you’ll learn how KS WELI equips founders with mentorship\, workshops\, resources\, and non-dilutive funding to scale their businesses. This info session will include: \n\nAn overview of the Founder Program structure and goals\nApplication tips and the program timeline\nInsights from past participants and mentors\nLive Q&A with the KS WELI team
URL:https://kswelinstitute.utexas.edu/event/founder-program-info-session-2/
LOCATION:Kendra Scott Center\, 2301 Trinity Street\, Austin\, 78712\, United States
CATEGORIES:KS WELI Founder Program
ATTACH;FMTTYPE=image/jpeg:https://kswelinstitute.utexas.edu/wp-content/uploads/2025/09/SP25.Founder.Orientation.Group_.Photo_2.jpg
END:VEVENT
BEGIN:VEVENT
DTSTART;TZID=America/Chicago:20250919T130000
DTEND;TZID=America/Chicago:20250919T140000
DTSTAMP:20260423T055828
CREATED:20250918T143415Z
LAST-MODIFIED:20250918T143501Z
UID:10000065-1758286800-1758290400@kswelinstitute.utexas.edu
SUMMARY:Founder Program Info Session 1
DESCRIPTION:RSVP Here!\nReady to grow your startup? KS WELI’s Founder Program is our premier entrepreneurship offering\, designed to support students ready to take their ventures from idea to impact. \nAt our info sessions\, you’ll learn how KS WELI equips founders with mentorship\, workshops\, resources\, and non-dilutive funding to scale their businesses. This info session will include: \n\nAn overview of the Founder Program structure and goals\nApplication tips and the program timeline\nInsights from past participants and mentors\nLive Q&A with the KS WELI team
URL:https://kswelinstitute.utexas.edu/event/founder-program-info-session-1/
LOCATION:Kendra Scott Center\, 2301 Trinity Street\, Austin\, 78712\, United States
ATTACH;FMTTYPE=image/jpeg:https://kswelinstitute.utexas.edu/wp-content/uploads/2025/09/SP25.Founder.Orientation.Group_.Photo_2.jpg
END:VEVENT
BEGIN:VEVENT
DTSTART;TZID=America/Chicago:20250905T100000
DTEND;TZID=America/Chicago:20250905T140000
DTSTAMP:20260423T055828
CREATED:20250815T170943Z
LAST-MODIFIED:20250815T170943Z
UID:10000062-1757066400-1757080800@kswelinstitute.utexas.edu
SUMMARY:KS WELI Open House
DESCRIPTION:RSVP HERE\nKick off the semester with KS WELI’s biggest welcome of the year! Connect with founders\, student leaders\, and innovators. Enjoy bites\, giveaways from women-owned brands\, and a lineup of inspiring speakers and activities. Discover all the ways you can plug into KS WELI this year\, from mentorship and leadership opportunities to events and innovation programs.
URL:https://kswelinstitute.utexas.edu/event/ks-weli-open-house/
LOCATION:Kendra Scott Center\, 2301 Trinity Street\, Austin\, 78712\, United States
CATEGORIES:Signature Event
ATTACH;FMTTYPE=image/png:https://kswelinstitute.utexas.edu/wp-content/uploads/2025/08/Screenshot-2025-08-15-at-11.46.35-AM-scaled.png
END:VEVENT
BEGIN:VEVENT
DTSTART;TZID=America/Chicago:20250903T180000
DTEND;TZID=America/Chicago:20250903T190000
DTSTAMP:20260423T055828
CREATED:20250822T175100Z
LAST-MODIFIED:20250822T175158Z
UID:10000064-1756922400-1756926000@kswelinstitute.utexas.edu
SUMMARY:KS WELI Student Board Info Session
DESCRIPTION:Want to grow as a leader and make an impact at UT? \nCome to a KS WELI Student Board Info Session to learn more and how you can sign up to join. The KS WELI Student Board (SB) represents the voice of the Kendra Scott Women’s Entrepreneurial Institute. SB organizes events\, meets mentors\, gets exclusive access to innovation workshops\, and represents the KS WELI mission across UT. \nAt the session\, you’ll hear from current members about their experiences and the ways you can get involved this year. \n📅 September 3rd📍Kendra Scott Center\, Doty Fine Arts Building 1st Floor \nDon’t miss your chance to be part of a community shaping the future of entrepreneurship & innovation.
URL:https://kswelinstitute.utexas.edu/event/ks-weli-student-board-info-session-4/
LOCATION:Kendra Scott Center\, 2301 Trinity Street\, Austin\, 78712\, United States
CATEGORIES:KS WELI Student Board Event
END:VEVENT
BEGIN:VEVENT
DTSTART;TZID=America/Chicago:20250827T180000
DTEND;TZID=America/Chicago:20250827T190000
DTSTAMP:20260423T055828
CREATED:20250822T045354Z
LAST-MODIFIED:20250822T175034Z
UID:10000063-1756317600-1756321200@kswelinstitute.utexas.edu
SUMMARY:KS WELI Student Board Info Session
DESCRIPTION:Want to grow as a leader and make an impact at UT? \nCome to a KS WELI Student Board Info Session to learn more and how you can sign up to join. The KS WELI Student Board (SB) represents the voice of the Kendra Scott Women’s Entrepreneurial Institute. SB organizes events\, meets mentors\, gets exclusive access to innovation workshops\, and represents the KS WELI mission across UT. \nAt the session\, you’ll hear from current members about their experiences and the ways you can get involved this year. \n📅 August 27th📍Kendra Scott Center\, Doty Fine Arts Building 1st Floor \nDon’t miss your chance to be part of a community shaping the future of entrepreneurship & innovation.
URL:https://kswelinstitute.utexas.edu/event/ks-weli-student-board-info-session-3/
LOCATION:Kendra Scott Center\, 2301 Trinity Street\, Austin\, 78712\, United States
CATEGORIES:KS WELI Student Board Event
END:VEVENT
BEGIN:VEVENT
DTSTART;TZID=America/Chicago:20250506T090000
DTEND;TZID=America/Chicago:20250506T170000
DTSTAMP:20260423T055828
CREATED:20250124T201734Z
LAST-MODIFIED:20250415T202815Z
UID:10000057-1746522000-1746550800@kswelinstitute.utexas.edu
SUMMARY:End of Year Celebration
DESCRIPTION:RSVP HERE
URL:https://kswelinstitute.utexas.edu/event/founder-pitch-showcase-senior-celebration/
CATEGORIES:Signature Event
ATTACH;FMTTYPE=image/png:https://kswelinstitute.utexas.edu/wp-content/uploads/2025/01/SP25_-Programming-Website-Graphic-Placeholders-2.png
END:VEVENT
BEGIN:VEVENT
DTSTART;TZID=America/Chicago:20250425T090000
DTEND;TZID=America/Chicago:20250425T110000
DTSTAMP:20260423T055828
CREATED:20250124T165439Z
LAST-MODIFIED:20250124T205334Z
UID:10000051-1745571600-1745578800@kswelinstitute.utexas.edu
SUMMARY:Founder Co-Working (Friday)
DESCRIPTION:
URL:https://kswelinstitute.utexas.edu/event/founder-co-working-friday-10/
LOCATION:Founder Program Participants Only\, \, Private Event
CATEGORIES:KS WELI Founder Program Exclusive
ATTACH;FMTTYPE=image/png:https://kswelinstitute.utexas.edu/wp-content/uploads/2025/01/20.png
END:VEVENT
BEGIN:VEVENT
DTSTART;TZID=America/Chicago:20250422T170000
DTEND;TZID=America/Chicago:20250422T193000
DTSTAMP:20260423T055828
CREATED:20250124T171629Z
LAST-MODIFIED:20250129T160902Z
UID:10000055-1745341200-1745350200@kswelinstitute.utexas.edu
SUMMARY:Founder Workshop: Pitch Readiness
DESCRIPTION:
URL:https://kswelinstitute.utexas.edu/event/founder-workshop-5/
LOCATION:Founder Program Participants Only\, \, Private Event
CATEGORIES:KS WELI Founder Program Exclusive
ATTACH;FMTTYPE=image/png:https://kswelinstitute.utexas.edu/wp-content/uploads/2025/01/19.png
END:VEVENT
BEGIN:VEVENT
DTSTART;TZID=America/Chicago:20250418T090000
DTEND;TZID=America/Chicago:20250418T110000
DTSTAMP:20260423T055828
CREATED:20250124T165402Z
LAST-MODIFIED:20250124T205358Z
UID:10000050-1744966800-1744974000@kswelinstitute.utexas.edu
SUMMARY:Founder Co-Working (Friday)
DESCRIPTION:
URL:https://kswelinstitute.utexas.edu/event/founder-co-working-friday-9/
LOCATION:Founder Program Participants Only\, \, Private Event
CATEGORIES:KS WELI Founder Program Exclusive
ATTACH;FMTTYPE=image/png:https://kswelinstitute.utexas.edu/wp-content/uploads/2025/01/18.png
END:VEVENT
BEGIN:VEVENT
DTSTART;TZID=America/Chicago:20250415T180000
DTEND;TZID=America/Chicago:20250415T190000
DTSTAMP:20260423T055828
CREATED:20250124T200145Z
LAST-MODIFIED:20250403T162020Z
UID:10000056-1744740000-1744743600@kswelinstitute.utexas.edu
SUMMARY:Empower Hour: Innovation in Intrapreneurship
DESCRIPTION:RSVP Here!
URL:https://kswelinstitute.utexas.edu/event/save-the-date-empower-hour-3/
LOCATION:Kendra Scott Center\, 2301 Trinity Street\, Austin\, 78712\, United States
CATEGORIES:Empower Hour
ATTACH;FMTTYPE=image/png:https://kswelinstitute.utexas.edu/wp-content/uploads/2025/01/41525-Empower-Hour-FBLinkedin-1.png
END:VEVENT
BEGIN:VEVENT
DTSTART;TZID=America/Chicago:20250411T090000
DTEND;TZID=America/Chicago:20250411T110000
DTSTAMP:20260423T055828
CREATED:20250124T165320Z
LAST-MODIFIED:20250124T205415Z
UID:10000049-1744362000-1744369200@kswelinstitute.utexas.edu
SUMMARY:Founder Co-Working (Friday)
DESCRIPTION:
URL:https://kswelinstitute.utexas.edu/event/founder-co-working-friday-8/
LOCATION:Founder Program Participants Only\, \, Private Event
CATEGORIES:KS WELI Founder Program Exclusive
ATTACH;FMTTYPE=image/png:https://kswelinstitute.utexas.edu/wp-content/uploads/2025/01/16.png
END:VEVENT
BEGIN:VEVENT
DTSTART;TZID=America/Chicago:20250408T170000
DTEND;TZID=America/Chicago:20250408T193000
DTSTAMP:20260423T055828
CREATED:20250124T170013Z
LAST-MODIFIED:20250129T160844Z
UID:10000054-1744131600-1744140600@kswelinstitute.utexas.edu
SUMMARY:Founder Workshop: Growth & Monetization
DESCRIPTION:
URL:https://kswelinstitute.utexas.edu/event/founder-workshop-4/
LOCATION:Founder Program Participants Only\, \, Private Event
CATEGORIES:KS WELI Founder Program Exclusive
ATTACH;FMTTYPE=image/png:https://kswelinstitute.utexas.edu/wp-content/uploads/2025/01/14.png
END:VEVENT
BEGIN:VEVENT
DTSTART;TZID=America/Chicago:20250404T090000
DTEND;TZID=America/Chicago:20250404T110000
DTSTAMP:20260423T055828
CREATED:20250124T165134Z
LAST-MODIFIED:20250124T205435Z
UID:10000048-1743757200-1743764400@kswelinstitute.utexas.edu
SUMMARY:First Fridays Founder Coffee
DESCRIPTION:
URL:https://kswelinstitute.utexas.edu/event/first-fridays-founder-coffee-2/
LOCATION:Founder Program Participants Only\, \, Private Event
CATEGORIES:KS WELI Founder Program Exclusive
ATTACH;FMTTYPE=image/png:https://kswelinstitute.utexas.edu/wp-content/uploads/2025/01/15.png
END:VEVENT
END:VCALENDAR