BEGIN:VCALENDAR
VERSION:2.0
PRODID:-//Kendra Scott Women’s Entrepreneurial Leadership Institute at The University of Texas at Austin - ECPv6.15.16//NONSGML v1.0//EN
CALSCALE:GREGORIAN
METHOD:PUBLISH
X-ORIGINAL-URL:https://kswelinstitute.utexas.edu
X-WR-CALDESC:Events for Kendra Scott Women’s Entrepreneurial Leadership Institute at The University of Texas at Austin
REFRESH-INTERVAL;VALUE=DURATION:PT1H
X-Robots-Tag:noindex
X-PUBLISHED-TTL:PT1H
BEGIN:VTIMEZONE
TZID:America/Chicago
BEGIN:DAYLIGHT
TZOFFSETFROM:-0600
TZOFFSETTO:-0500
TZNAME:CDT
DTSTART:20230312T080000
END:DAYLIGHT
BEGIN:STANDARD
TZOFFSETFROM:-0500
TZOFFSETTO:-0600
TZNAME:CST
DTSTART:20231105T070000
END:STANDARD
BEGIN:DAYLIGHT
TZOFFSETFROM:-0600
TZOFFSETTO:-0500
TZNAME:CDT
DTSTART:20240310T080000
END:DAYLIGHT
BEGIN:STANDARD
TZOFFSETFROM:-0500
TZOFFSETTO:-0600
TZNAME:CST
DTSTART:20241103T070000
END:STANDARD
BEGIN:DAYLIGHT
TZOFFSETFROM:-0600
TZOFFSETTO:-0500
TZNAME:CDT
DTSTART:20250309T080000
END:DAYLIGHT
BEGIN:STANDARD
TZOFFSETFROM:-0500
TZOFFSETTO:-0600
TZNAME:CST
DTSTART:20251102T070000
END:STANDARD
END:VTIMEZONE
BEGIN:VEVENT
DTSTART;TZID=America/Chicago:20240925T100000
DTEND;TZID=America/Chicago:20240925T150000
DTSTAMP:20260422T073000
CREATED:20240904T164342Z
LAST-MODIFIED:20240904T164342Z
UID:10000030-1727258400-1727276400@kswelinstitute.utexas.edu
SUMMARY:KS WELI Co-Sponsored Event: Fall Business Minors Expo
DESCRIPTION:Find KS WELI at the Fall Business Minors Expo and learn all about our mission and different initiatives! \nDate: September 25th\, 2024 \nTime: 10:00 am – 3:00 pm \nLocation: CBA Hall of Honors \nWe hope to see you there!
URL:https://kswelinstitute.utexas.edu/event/ks-weli-co-sponsored-event-fall-business-minors-expo/
LOCATION:CBA Hall of Honors
CATEGORIES:KS WELI Co-Sponsored Events
ATTACH;FMTTYPE=image/png:https://kswelinstitute.utexas.edu/wp-content/uploads/2024/09/DUPLICATE.png
END:VEVENT
BEGIN:VEVENT
DTSTART;TZID=America/Chicago:20240923T150000
DTEND;TZID=America/Chicago:20240923T180000
DTSTAMP:20260422T073000
CREATED:20240904T164957Z
LAST-MODIFIED:20240904T164957Z
UID:10000031-1727103600-1727114400@kswelinstitute.utexas.edu
SUMMARY:KS WELI Co-Sponsored Event | HKEC: Intro to UT/Austin Startup Ecosystem Tradeshow
DESCRIPTION:Find KS WELI at HKEC: Intro to UT/Austin Startup Ecosystem Tradeshow to learn all about our mission and different initiatives! \nDate: September 23th\, 2024 \nTime: 3:00 pm – 6:00 pm \nLocation: William C. Powers Student Activity Center\, 2201 Speedway 2nd Floor Ballroom\, Austin\, TX 78712 \nWe hope to see you there!
URL:https://kswelinstitute.utexas.edu/event/ks-weli-co-sponsored-event-hkec-intro-to-ut-austin-startup-ecosystem-tradeshow/
LOCATION:William C. Powers Student Activity Center 2nd Floor Ballroom
CATEGORIES:KS WELI Co-Sponsored Events
ATTACH;FMTTYPE=image/png:https://kswelinstitute.utexas.edu/wp-content/uploads/2024/09/DUPLICATE-1.png
END:VEVENT
END:VCALENDAR